BEGIN:VCALENDAR
VERSION:2.0
PRODID:-//VFW Memorial Post 3117 - ECPv6.15.20//NONSGML v1.0//EN
CALSCALE:GREGORIAN
METHOD:PUBLISH
X-ORIGINAL-URL:https://vfwpost3117.com
X-WR-CALDESC:Events for VFW Memorial Post 3117
REFRESH-INTERVAL;VALUE=DURATION:PT1H
X-Robots-Tag:noindex
X-PUBLISHED-TTL:PT1H
BEGIN:VTIMEZONE
TZID:UTC
BEGIN:STANDARD
TZOFFSETFROM:+0000
TZOFFSETTO:+0000
TZNAME:UTC
DTSTART:20220101T000000
END:STANDARD
END:VTIMEZONE
BEGIN:VEVENT
DTSTART;TZID=UTC:20231125T180000
DTEND;TZID=UTC:20231125T230000
DTSTAMP:20260420T225755
CREATED:20230203T143400Z
LAST-MODIFIED:20230204T131335Z
UID:10000072-1700935200-1700953200@vfwpost3117.com
SUMMARY:Edison VFW Presents Elvis\, and Garth Brooks !
DESCRIPTION:VFW Post 3117 is hosting a Live Event. Come see Elvis Presley\, and Garth Brooks perform!\nTickets ON SALE Now! Only 120 Tickets are available so get yours now!\nIncluded with the show is a delicious Buffet Dinner!
URL:https://vfwpost3117.com/event/edison-vfw-presents-elvis-and-garth-brooks/
LOCATION:VFW Post 3117\, 53 National Rd\, Edison\, 08817
CATEGORIES:Live Event,Party
ATTACH;FMTTYPE=image/jpeg:https://vfwpost3117.com/wp-content/uploads/2023/02/Mic.jpg
ORGANIZER;CN="Post 3117 Commander":MAILTO:filipeoliveira85@gmail.com
END:VEVENT
BEGIN:VEVENT
DTSTART;TZID=UTC:20230329T120000
DTEND;TZID=UTC:20230329T130000
DTSTAMP:20260420T225755
CREATED:20230113T153633Z
LAST-MODIFIED:20230113T153633Z
UID:10000069-1680091200-1680094800@vfwpost3117.com
SUMMARY:Winter Walk Wednesdays
DESCRIPTION:During these cold winter months\, it is more important than ever to maintain good health. To ensure residents are getting their steps in\, Middlesex County in partnership with the Piscataway YMCA will be hosting Winter Walk Wednesdays. The event\, taking place January 25\, February 22 and March 29\, will give you the opportunity to make strides to improve your health and well-being by joining local doctors and educators for a walk. While you walk at your own pace\, you will have the opportunity to have questions answered by Hackensack Meridian Health Professionals. This event is free and open to everyone.
URL:https://vfwpost3117.com/event/winter-walk-wednesdays/2023-03-29/
LOCATION:Piscataway YMCA\, 520 Hoes Lane\, Piscataway\, NJ\, 08855\, United States
ATTACH;FMTTYPE=image/jpeg:https://vfwpost3117.com/wp-content/uploads/2023/01/Winter-Walk.jpg
ORGANIZER;CN="Post 3117 Commander":MAILTO:filipeoliveira85@gmail.com
END:VEVENT
END:VCALENDAR